BEGIN:VCALENDAR
PRODID:-//github.com/ical-org/ical.net//NONSGML ical.net 5.2.1//EN
VERSION:2.0
BEGIN:VEVENT
DESCRIPTION:Jolanda uitnodigen: creatief met foto’s
DTEND;TZID=Europe/Amsterdam:20261027T210000
DTSTAMP:20260420T021307Z
DTSTART;TZID=Europe/Amsterdam:20261027T190000
LOCATION:nnb
SEQUENCE:0
SUMMARY:Fotografie actief
UID:agenda-34@fotoclub-wijchen.fotoclubsite.nl
END:VEVENT
END:VCALENDAR
