BEGIN:VCALENDAR
PRODID:-//github.com/ical-org/ical.net//NONSGML ical.net 5.2.1//EN
VERSION:2.0
BEGIN:VEVENT
DESCRIPTION:Bianca en Loes: bloemen fotografie\, macro\, licht
DTEND;TZID=Europe/Amsterdam:20260526T200000
DTSTAMP:20260420T021143Z
DTSTART;TZID=Europe/Amsterdam:20260526T180000
LOCATION:nnb
SEQUENCE:0
SUMMARY:Fotografie actief
UID:agenda-32@fotoclub-wijchen.fotoclubsite.nl
END:VEVENT
END:VCALENDAR
