BEGIN:VCALENDAR
PRODID:-//github.com/ical-org/ical.net//NONSGML ical.net 5.2.1//EN
VERSION:2.0
BEGIN:VEVENT
DESCRIPTION:Loes: stilleven kerst
DTEND;TZID=Europe/Amsterdam:20261124T210000
DTSTAMP:20260420T021229Z
DTSTART;TZID=Europe/Amsterdam:20261124T190000
LOCATION:Noorderlicht
SEQUENCE:0
SUMMARY:Fotografie actief
UID:agenda-28@fotoclub-wijchen.fotoclubsite.nl
END:VEVENT
END:VCALENDAR
