BEGIN:VCALENDAR
PRODID:-//github.com/ical-org/ical.net//NONSGML ical.net 5.2.1//EN
VERSION:2.0
BEGIN:VEVENT
DESCRIPTION:Richard: fotobespreking m.b.v. scherm =&gt\; tijdsverloop (n.a.
 v. uitleg in januari ‘26)Foto’s laten zien van eerdere activiteit(en)
DTEND;TZID=Europe/Amsterdam:20261110T210000
DTSTAMP:20260420T021425Z
DTSTART;TZID=Europe/Amsterdam:20261110T190000
LOCATION:Noorderlicht
SEQUENCE:0
SUMMARY:Foto cafe
UID:agenda-27@fotoclub-wijchen.fotoclubsite.nl
END:VEVENT
END:VCALENDAR
