BEGIN:VCALENDAR
PRODID:-//github.com/ical-org/ical.net//NONSGML ical.net 5.2.1//EN
VERSION:2.0
BEGIN:VEVENT
DESCRIPTION:Sacha: fotobespreking m.b.v. scherm =&gt\; resultaten fotoketti
 ng telefoon(gestart op 13 januari j.l)
DTEND;TZID=Europe/Amsterdam:20261013T200000
DTSTAMP:20260420T021418Z
DTSTART;TZID=Europe/Amsterdam:20261013T180000
LOCATION:Noorderlicht
SEQUENCE:0
SUMMARY:Foto cafe
UID:agenda-25@fotoclub-wijchen.fotoclubsite.nl
END:VEVENT
END:VCALENDAR
