BEGIN:VCALENDAR
PRODID:-//github.com/ical-org/ical.net//NONSGML ical.net 5.2.1//EN
VERSION:2.0
BEGIN:VEVENT
DESCRIPTION:Huub en Marium: modellenshoot in de stijl van Peter Lindbergh
DTEND;TZID=Europe/Amsterdam:20260926T160000
DTSTAMP:20260420T021229Z
DTSTART;VALUE=DATE:20260926
LOCATION:nnb
SEQUENCE:0
SUMMARY:Fotografie actief: modellenshoot in de stijl van Peter  Lindbergh
UID:agenda-24@fotoclub-wijchen.fotoclubsite.nl
END:VEVENT
END:VCALENDAR
