BEGIN:VCALENDAR
PRODID:-//github.com/ical-org/ical.net//NONSGML ical.net 5.2.1//EN
VERSION:2.0
BEGIN:VEVENT
DESCRIPTION:Huub en Marium: de stijl van Peter Lindbergh
DTEND;TZID=Europe/Amsterdam:20260922T200000
DTSTAMP:20260420T021312Z
DTSTART;TZID=Europe/Amsterdam:20260922T180000
LOCATION:Noorderlicht
SEQUENCE:0
SUMMARY:Foto cafe
UID:agenda-23@fotoclub-wijchen.fotoclubsite.nl
END:VEVENT
END:VCALENDAR
