BEGIN:VCALENDAR
PRODID:-//github.com/ical-org/ical.net//NONSGML ical.net 5.2.1//EN
VERSION:2.0
BEGIN:VEVENT
DESCRIPTION:Roland en Monica: dierentuin
DTEND;TZID=Europe/Amsterdam:20260829T180000
DTSTAMP:20260420T021148Z
DTSTART;VALUE=DATE:20260829
LOCATION:Dierentuin locatie volgt nog
SEQUENCE:0
SUMMARY:Fotografie actief: Dierentuin
UID:agenda-20@fotoclub-wijchen.fotoclubsite.nl
END:VEVENT
END:VCALENDAR
