BEGIN:VCALENDAR
PRODID:-//github.com/ical-org/ical.net//NONSGML ical.net 5.2.1//EN
VERSION:2.0
BEGIN:VEVENT
DESCRIPTION:Gerda en Bianca: watersport-skicentrum
DTEND;TZID=Europe/Amsterdam:20260623T200000
DTSTAMP:20260420T021257Z
DTSTART;TZID=Europe/Amsterdam:20260623T180000
LOCATION:nnb
SEQUENCE:0
SUMMARY:Fotografie actief:  watersport-skicentrum
UID:agenda-19@fotoclub-wijchen.fotoclubsite.nl
END:VEVENT
END:VCALENDAR
