BEGIN:VCALENDAR
PRODID:-//github.com/ical-org/ical.net//NONSGML ical.net 5.2.1//EN
VERSION:2.0
BEGIN:VEVENT
DESCRIPTION:Cor en…: fotomarathon
DTEND;TZID=Europe/Amsterdam:20260627T200000
DTSTAMP:20260420T021312Z
DTSTART;TZID=Europe/Amsterdam:20260627T100000
LOCATION:nnb
SEQUENCE:0
SUMMARY:Fotografie actief: Fotomarathon
UID:agenda-17@fotoclub-wijchen.fotoclubsite.nl
END:VEVENT
END:VCALENDAR
