BEGIN:VCALENDAR
PRODID:-//github.com/ical-org/ical.net//NONSGML ical.net 5.2.1//EN
VERSION:2.0
BEGIN:VEVENT
DESCRIPTION:Huub: fotobespreking m.b.v. scherm =&gt\; jouw dagFoto’s late
 n zien van eerdere activiteit(en): tattooshoot
DTEND;TZID=Europe/Amsterdam:20260512T200000
DTSTAMP:20260420T021257Z
DTSTART;TZID=Europe/Amsterdam:20260512T180000
LOCATION:Noorderlicht
SEQUENCE:0
SUMMARY:Foto cafe
UID:agenda-16@fotoclub-wijchen.fotoclubsite.nl
END:VEVENT
END:VCALENDAR
