BEGIN:VCALENDAR
PRODID:-//github.com/ical-org/ical.net//NONSGML ical.net 5.2.1//EN
VERSION:2.0
BEGIN:VEVENT
DESCRIPTION:Huub: fotobespreking m.b.v. prints -&gt\; mijn familieFoto’s 
 laten zien van eerdere activiteit(en)
DTEND;TZID=Europe/Amsterdam:20260609T200000
DTSTAMP:20260420T021429Z
DTSTART;TZID=Europe/Amsterdam:20260609T180000
LOCATION:Noorderlicht
SEQUENCE:0
SUMMARY:Foto cafe
UID:agenda-15@fotoclub-wijchen.fotoclubsite.nl
END:VEVENT
END:VCALENDAR
