BEGIN:VCALENDAR
PRODID:-//github.com/ical-org/ical.net//NONSGML ical.net 5.2.1//EN
VERSION:2.0
BEGIN:VEVENT
DESCRIPTION:organisatie Rob P\,  Rob J\, J ohn en Elja
DTEND;TZID=Europe/Amsterdam:20260530T160000
DTSTAMP:20260420T021429Z
DTSTART;TZID=Europe/Amsterdam:20260530T100000
LOCATION:Noorderlicht
SEQUENCE:0
SUMMARY:watershoot met modellen
UID:agenda-14@fotoclub-wijchen.fotoclubsite.nl
END:VEVENT
END:VCALENDAR
