BEGIN:VCALENDAR
PRODID:-//github.com/ical-org/ical.net//NONSGML ical.net 5.2.1//EN
VERSION:2.0
BEGIN:VEVENT
DESCRIPTION:Organisatie: Cor / Roland
DTEND;TZID=Europe/Amsterdam:20260428T200000
DTSTAMP:20260420T021425Z
DTSTART;TZID=Europe/Amsterdam:20260428T183000
LOCATION:zie beschrijving
SEQUENCE:0
SUMMARY:Fotografie actief: vuurslingeren
UID:agenda-13@fotoclub-wijchen.fotoclubsite.nl
END:VEVENT
END:VCALENDAR
