BEGIN:VCALENDAR
PRODID:-//github.com/ical-org/ical.net//NONSGML ical.net 5.2.1//EN
VERSION:2.0
BEGIN:VEVENT
DESCRIPTION:Organisatie: Cor
DTEND;TZID=Europe/Amsterdam:20260825T200000
DTSTAMP:20260420T021121Z
DTSTART;TZID=Europe/Amsterdam:20260825T180000
LOCATION:Nog niet bekend
SEQUENCE:0
SUMMARY:Fotografie actief: Lightpainting met model
UID:agenda-121@fotoclub-wijchen.fotoclubsite.nl
END:VEVENT
END:VCALENDAR
