BEGIN:VCALENDAR
PRODID:-//github.com/ical-org/ical.net//NONSGML ical.net 5.2.1//EN
VERSION:2.0
BEGIN:VEVENT
DESCRIPTION:organisatie: Melissa en Mieke: drieluik stadsfotografie (Amersf
 oort)Voor het uitje van zaterdag\, 25 april gaan we naar&nbsp\;Amersfoort!
 De foto-opdracht bestaat uit het maken van een drieluik van de stad.Je kun
 t dit op meerdere manieren doen (zie voor ideeën onderstaande link)&nbsp\
 ;https://vinkacademy.nl/fotografietips/drieluik-fotograferen-selecteren-pr
 esenteren/We verzamelen op zaterdag 25 april om 09.45 uur bij het Noorderl
 icht. De laatste informatie volgt nog.&nbsp\;Laat ons even weten of je mee
 gaat en of je eventueel kunt rijden! Dat kan je doen door te mailen naar M
 ieke of Melissa\, een appje te sturen of door het hier aan te geven.Wij ho
 pen dat iedereen meegaat\,&nbsp\;&nbsp\;Amersfoort&nbsp\;is een leuke en f
 otogenieke stad!Hartelijke groet\,Mieke en Melissa
DTEND;TZID=Europe/Amsterdam:20260425T160000
DTSTAMP:20260420T021307Z
DTSTART;TZID=Europe/Amsterdam:20260425T074500
LOCATION:Amersfoort
SEQUENCE:0
SUMMARY:stadsfotografie Amersfoort
UID:agenda-12@fotoclub-wijchen.fotoclubsite.nl
END:VEVENT
END:VCALENDAR
